BEGIN:VCALENDAR
PRODID:NingEventWidget-v1
VERSION:2.0
METHOD:PUBLISH
BEGIN:VEVENT
UID:5167423:Event:123742
DTSTAMP:20260421T174917Z
SUMMARY:7th Annual Car, Truck, and Bike Show
DESCRIPTION:This Sunday, August 7, 2016, Classic Riderz & G-Wiz Auto E
 ntertainment Presents \"7th Annual Car, Truck, and Bike Show!\" Date: 
 August 7, 2016/Rain Date:August 14, 2016. Time: 11:00-4:00PM. Location
 : 397 Union Street, Hackensack,NJ 07601.Registration Begins at 12:00PM
 . Registration Fee: Cars/Trucks $20, Bikes $5. Judging at 2PM. Trophie
 s/Prizes awarded! To Register, contact Dale Long (201) 267-5719, Joe W
 illiams (973)896-2799, or George (908)482-8132!\n\nFor more informatio
 n visit https://northeastwheelsevents.com/events/7th-annual-car-truck-
 and-bike-show
DTSTART:20160807T150000Z
DTEND:20160807T200000Z
CATEGORIES:car, show, truck, bike
LOCATION:397 Union Street
WEBSITE:http://www.gwizautoentertainment.com
URL:http://www.gwizautoentertainment.com
CONTACT:(908) 482-8132
ORGANIZER:G-Wiz Auto Entertainment & Classic Riderz
ATTACH;FMTTYPE="image/jpeg":http://storage.ning.com/topology/rest/1.0/
 file/get/2284088920?profile=original
ATTENDEE;ROLE=REQ-PARTICIPANT;PARTSTAT=ACCEPTED;RSVP=TRUE;CN="Mayan Mo
 bile":https://northeastwheelsevents.com/profile/MayanMobile
END:VEVENT
END:VCALENDAR
