BEGIN:VCALENDAR
PRODID:NingEventWidget-v1
VERSION:2.0
METHOD:PUBLISH
BEGIN:VEVENT
UID:5167423:Event:315132
DTSTAMP:20260421T074912Z
SUMMARY:7th Annual Franklin County Ag Society Car Show
DESCRIPTION:Full info and downloadable registration at https://buff.ly
 /30z8e5L\n\nFor more information visit https://northeastwheelsevents.c
 om/events/7th-annual-franklin-county-ag-society-car-show
DTSTART:20230603T120000Z
DTEND:20230604T200000Z
CATEGORIES:auto, show
LOCATION:Franklin County Fairgrounds
WEBSITE:https://www.facebook.com/photo/?fbid=626119812881171&amp;set=a
 .552319600261193
URL:https://www.facebook.com/photo/?fbid=626119812881171&amp;set=a.552
 319600261193
CONTACT:
ORGANIZER:Franklin County Agricultural Society
ATTACH;FMTTYPE="image/jpeg":https://storage.ning.com/topology/rest/1.0
 /file/get/11150537458?profile=original
ATTENDEE;ROLE=REQ-PARTICIPANT;PARTSTAT=ACCEPTED;RSVP=TRUE;CN=CrazyJerr
 y:https://northeastwheelsevents.com/profile/CrazyJerry
END:VEVENT
END:VCALENDAR
