BEGIN:VCALENDAR
PRODID:NingEventWidget-v1
VERSION:2.0
METHOD:PUBLISH
BEGIN:VEVENT
UID:5167423:Event:348187
DTSTAMP:20260424T161245Z
SUMMARY:7th Annual Jeep Fest for St Jude
DESCRIPTION:Get ready for our 7th awesome event!  We're bringing bac
 k all your favorites plus some exciting new surprises!  The event wi
 ll feature:\n-  Jeep Creep-  Obstacle Course-  Bands-  Beer Ga
 rden-  Raffles-  Family Activities-  Beauty Contest\nJeep fans a
 nd everyone wanting to support St. Jude, come join the fun!\n\nFor mor
 e information visit https://northeastwheelsevents.com/events/7th-annua
 l-jeep-fest-for-st-jude
DTSTART:20261003T170000Z
DTEND:20261003T220000Z
CATEGORIES:jeep, show
LOCATION:Mt Airy Carnival Grounds
WEBSITE:https://www.mdjeepsforstjude.com/?fbclid=IwY2xjawQEHoZleHRuA2F
 lbQIxMABicmlkETJiR25abXZCcldpTGtFaEhoc3J0YwZhcHBfaWQQMjIyMDM5MTc4ODIwM
 Dg5MgABHuzN0U6jT1t8purXHnu98ah_mihL8XyqC08eI3DoOO5iU2QsFbtBtTOA5Kqt_ae
 m_HzZsuyryZHflxVscwSgSCA
URL:https://www.mdjeepsforstjude.com/?fbclid=IwY2xjawQEHoZleHRuA2FlbQI
 xMABicmlkETJiR25abXZCcldpTGtFaEhoc3J0YwZhcHBfaWQQMjIyMDM5MTc4ODIwMDg5M
 gABHuzN0U6jT1t8purXHnu98ah_mihL8XyqC08eI3DoOO5iU2QsFbtBtTOA5Kqt_aem_Hz
 ZsuyryZHflxVscwSgSCA
CONTACT:mdjeepsforstjude.com
ORGANIZER:Maryland Jeep Creep For St. Jude
ATTACH;FMTTYPE="image/jpeg":https://storage.ning.com/topology/rest/1.0
 /file/get/31091490301?profile=original
ATTENDEE;ROLE=REQ-PARTICIPANT;PARTSTAT=ACCEPTED;RSVP=TRUE;CN="Car Show
 s Little Helper":https://northeastwheelsevents.com/profile/CarShowsLit
 tleHelper
END:VEVENT
END:VCALENDAR
