BEGIN:VCALENDAR
PRODID:NingEventWidget-v1
VERSION:2.0
METHOD:PUBLISH
BEGIN:VEVENT
UID:5167423:Event:140805
DTSTAMP:20260422T200957Z
SUMMARY:7th Annual RON FRANCIS WIRING & CHESAPEAKE CITY LIONS CLUB CAR
  SHOW
DESCRIPTION:Ron Francis Wiring & Lions Club show, Antique, Collectable
  cars and trucks, Woodies\nHeld in a picturesque waterfront town that 
 has streets closed to traffic.\nMany, Many Local shop & restaurant dis
 counts, Ron Francis Wiring prizes\n50/50 nearing $2000\nTop 40, 2- Lon
 g Distance, Longest Caravan\nSponsor: Ron Francis Wiring-\nCost: $15.0
 0 Benefit Chesapeake City, MD Lions Club\nBreakfast available for earl
 y birds- Tee shirts by Rocky’s Tees\nTo Pre-Register: E-mail Ron@ro
 nfrancis.com Deadline 8-11-2017 \n100% of proceeds go to Chesapeake 
 City Lions Club\n \n\nFor more information visit https://northeastwhe
 elsevents.com/events/7th-annual-ron-francis-wiring-chesapeake-city-lio
 ns-club-car-show
DTSTART:20170826T120000Z
DTEND:20170826T190000Z
CATEGORIES:car, show
LOCATION:Downtown streets and park- Chesapeake city, MD
WEBSITE:http://www.Facebook.com/chesapeakecitycarshow
URL:http://www.Facebook.com/chesapeakecitycarshow
CONTACT:
ORGANIZER:Ron Francis Wiring and Chesapeake City Lions Club
ATTACH;FMTTYPE="image/jpeg":
ATTENDEE;ROLE=REQ-PARTICIPANT;PARTSTAT=ACCEPTED;RSVP=TRUE;CN="Pamela H
 irschhorn":https://northeastwheelsevents.com/profile/PamelaHirschhorn
END:VEVENT
END:VCALENDAR
