BEGIN:VCALENDAR
PRODID:NingEventWidget-v1
VERSION:2.0
METHOD:PUBLISH
BEGIN:VEVENT
UID:5167423:Event:72682
DTSTAMP:20260420T132139Z
SUMMARY:7th Annual Unstabled Horse Power
DESCRIPTION:http://www.quentinridingclubpa.com/car-show/\n\nFor more i
 nformation visit https://northeastwheelsevents.com/events/7th-annual-u
 nstabled-horse-power
DTSTART:20150614T130000Z
DTEND:20150614T210000Z
CATEGORIES:annual, car, show
LOCATION:Quentin Riding Club
WEBSITE:
URL:
CONTACT:717-273-1151
ORGANIZER;CN="Unstabled Car Show":https://northeastwheelsevents.com/pr
 ofile/UnstabledCarShow
ATTACH;FMTTYPE="image/jpeg":
ATTENDEE;ROLE=REQ-PARTICIPANT;PARTSTAT=ACCEPTED;RSVP=TRUE;CN="Unstable
 d Car Show":https://northeastwheelsevents.com/profile/UnstabledCarShow
END:VEVENT
END:VCALENDAR
