BEGIN:VCALENDAR
PRODID:NingEventWidget-v1
VERSION:2.0
METHOD:PUBLISH
BEGIN:VEVENT
UID:5167423:Event:135674
DTSTAMP:20260422T231744Z
SUMMARY:8th Annual Collector Car Appreciation Day
DESCRIPTION:The SEMA Action Network (SAN) announced that the next Coll
 ector Car Appreciation Day (CCAD) will be celebrated on July 14, 2017.
  The date will mark the eighth consecutive commemoration in what is no
 w an annual event to raise awareness of the vital role automotive rest
 oration and collection plays in American society.\n\nFor more informat
 ion visit https://northeastwheelsevents.com/events/8th-annual-collecto
 r-car-appreciation-day
DTSTART:20170714T040000Z
DTEND:20170715T035900Z
CATEGORIES:national, event
LOCATION:national
WEBSITE:http://semasan.com/page.asp?content=whatis&g=semaga
URL:http://semasan.com/page.asp?content=whatis&g=semaga
CONTACT:
ORGANIZER:SEMA Action Network
ATTACH;FMTTYPE="image/jpeg":http://storage.ning.com/topology/rest/1.0/
 file/get/2284090349?profile=original
ATTENDEE;ROLE=REQ-PARTICIPANT;PARTSTAT=ACCEPTED;RSVP=TRUE;CN="Pamela H
 irschhorn":https://northeastwheelsevents.com/profile/PamelaHirschhorn
END:VEVENT
END:VCALENDAR
