BEGIN:VCALENDAR
PRODID:NingEventWidget-v1
VERSION:2.0
METHOD:PUBLISH
BEGIN:VEVENT
UID:5167423:Event:21551
DTSTAMP:20260423T203829Z
SUMMARY:8th Annual Fleetwood Rotary Show of Wheels
DESCRIPTION:\n\n\nFor more information visit https://northeastwheelsev
 ents.com/events/8th-annual-fleetwood-rotary-show-of-wheels
DTSTART:20130615T120000Z
DTEND:20130615T200000Z
CATEGORIES:rotary, fundraiser
LOCATION:Fleetwood Community park
WEBSITE:http://www.fleetwoodparotary.org
URL:http://www.fleetwoodparotary.org
CONTACT:484-575-8113
ORGANIZER;CN="Jim Long":https://northeastwheelsevents.com/profile/JimL
 ong
ATTACH;FMTTYPE="image/jpeg":http://storage.ning.com/topology/rest/1.0/
 file/get/2284051149?profile=original
ATTENDEE;ROLE=REQ-PARTICIPANT;PARTSTAT=ACCEPTED;RSVP=TRUE;CN="Jim Long
 ":https://northeastwheelsevents.com/profile/JimLong
END:VEVENT
END:VCALENDAR
