BEGIN:VCALENDAR
PRODID:NingEventWidget-v1
VERSION:2.0
METHOD:PUBLISH
BEGIN:VEVENT
UID:5167423:Event:238830
DTSTAMP:20260422T001522Z
SUMMARY:8th Annual MCCNE, All Wheels Solomon Pond Mall Cruise-In
DESCRIPTION:All, Makes, Models & Vintages of both FOREIGN & DOMESTIC A
 utomobiles are WELCOME!\nNOTE: Fire Extinguishers are required in all 
 Cruise vehicles!\nEntry Fee is a donation to our designated 2019 chari
 ty, The Tomorrow Fund.\nSpectators are welcome. Admission & Parking ar
 e FREE! (Sorry NO Vendor Spaces.)\n\nFor more information visit https:
 //northeastwheelsevents.com/events/8th-annual-mccne-all-wheels-solomon
 -pond-mall-cruise-in
DTSTART:20190518T190000Z
DTEND:20190518T220000Z
CATEGORIES:cruise
LOCATION:Solomon Pond Mall
WEBSITE:http://www.mccne.com
URL:http://www.mccne.com
CONTACT:showcoordinator@mccne.com
ORGANIZER:Show Coordinator
ATTACH;FMTTYPE="image/jpeg":https://storage.ning.com/topology/rest/1.0
 /file/get/1230837667?profile=original
ATTENDEE;ROLE=REQ-PARTICIPANT;PARTSTAT=ACCEPTED;RSVP=TRUE;CN="Vincent 
 Letourneau":https://northeastwheelsevents.com/profile/VincentLetournea
 u
END:VEVENT
END:VCALENDAR
