BEGIN:VCALENDAR
PRODID:NingEventWidget-v1
VERSION:2.0
METHOD:PUBLISH
BEGIN:VEVENT
UID:5167423:Event:305680
DTSTAMP:20260422T181132Z
SUMMARY:8th Annual SPCA Car Show
DESCRIPTION:8th Annual SPCA Car Show Fundraiser\nTo benefit animals at
  all 3 shelter locations in Montgomery County providing money for food
 , housing, medical care, and shelter until they find a loving fur-ever
  home.\n\nFor more information visit https://northeastwheelsevents.com
 /events/8th-annual-spca-car-show
DTSTART:20220917T130000Z
DTEND:20220917T190000Z
CATEGORIES:spca, fundraiser
LOCATION:Rtes 113 and 63 Wal mart parking lot
WEBSITE:http://spcacarshow.wixsite.com/prizes
URL:http://spcacarshow.wixsite.com/prizes
CONTACT:2156804610
ORGANIZER;CN="Carrie Mccormick":https://northeastwheelsevents.com/prof
 ile/CarrieMccormick533
ATTACH;FMTTYPE="image/jpeg":
ATTENDEE;ROLE=REQ-PARTICIPANT;PARTSTAT=ACCEPTED;RSVP=TRUE;CN="Carrie M
 ccormick":https://northeastwheelsevents.com/profile/CarrieMccormick533
END:VEVENT
END:VCALENDAR
