BEGIN:VCALENDAR
PRODID:NingEventWidget-v1
VERSION:2.0
METHOD:PUBLISH
BEGIN:VEVENT
UID:5167423:Event:332323
DTSTAMP:20260425T174054Z
SUMMARY:9nth Annual Shiloh American Legion Riders Car, Truck, Bike, an
 d Jeep Show
DESCRIPTION:This is our 9th Annual show. We will have Vendors, music, 
 raffles,food and Trophies in a variety categories. Last year we got ra
 ined out and we are ready for this year. So if you got a cool ride you
  want to show, stop on out and see us. September  28th 10-2. Rain dat
 e will be the next day the 29th. Pre registration is $10 and $12 day o
 f show.\n\nFor more information visit https://northeastwheelsevents.co
 m/events/9nth-annual-shiloh-american-legion-riders-car-truck-bike-and-
 jeep
DTSTART:20240928T140000Z
DTEND:20240928T180000Z
CATEGORIES:car, truck, bike, and, jeep, show
LOCATION:Shiloh American Legion
WEBSITE:
URL:
CONTACT:717-577-7883
ORGANIZER;CN="Craig Schenandore":https://northeastwheelsevents.com/pro
 file/CraigSchenandore
ATTACH;FMTTYPE="image/jpeg":
ATTENDEE;ROLE=REQ-PARTICIPANT;PARTSTAT=ACCEPTED;RSVP=TRUE;CN="Craig Sc
 henandore":https://northeastwheelsevents.com/profile/CraigSchenandore
END:VEVENT
END:VCALENDAR
