BEGIN:VCALENDAR
PRODID:NingEventWidget-v1
VERSION:2.0
METHOD:PUBLISH
BEGIN:VEVENT
UID:5167423:Event:240454
DTSTAMP:20260421T003332Z
SUMMARY:9th Annual Cruise Night
DESCRIPTION:Car Show open to all Collector Cars. Street rods Muscle Ca
 rs etc. Free Admission! Open to the Public! Food & Ice Cream Available
 . Free Door Prizes! 50/50 Drawing. Entertainment Call George Wagner 71
 7-533-5313\n\nFor more information visit https://northeastwheelsevents
 .com/events/9th-annual-cruise-night
DTSTART:20190607T200000Z
DTEND:20190608T000000Z
CATEGORIES:car, show
LOCATION:AACA Museum Hershey
WEBSITE:
URL:
CONTACT:717-533-5313
ORGANIZER:George Wagner
ATTACH;FMTTYPE="image/jpeg":https://storage.ning.com/topology/rest/1.0
 /file/get/1438870916?profile=original
ATTENDEE;ROLE=REQ-PARTICIPANT;PARTSTAT=ACCEPTED;RSVP=TRUE;CN="Michael 
 Kissinger":https://northeastwheelsevents.com/profile/MichaelKissinger
END:VEVENT
END:VCALENDAR
