BEGIN:VCALENDAR
PRODID:NingEventWidget-v1
VERSION:2.0
METHOD:PUBLISH
BEGIN:VEVENT
UID:5167423:Event:220239
DTSTAMP:20260420T183510Z
SUMMARY:9th Annual Greenville Auto Show
DESCRIPTION:\n9th Annual Show\n\nRain Date: Saturday, June 8, 2019\n\n
  \n\nProfessional Judged Categories\n\n \n\nFirst 60 Cars Receive Da
 sh Plaques & Goodie Bags\n\nDJ Steve Petrelli Playing the Tunes\n\n \
 n\nPre-Registration $10 before May 15, 2019\nDay of Registration $20\n
 \n\nFor more information visit https://northeastwheelsevents.com/event
 s/9th-annual-greenville-auto-show
DTSTART:20190601T150000Z
DTEND:20190601T190000Z
CATEGORIES:car, show
LOCATION:Country House
WEBSITE:http://hgrotary.org/autoshow.html
URL:http://hgrotary.org/autoshow.html
CONTACT:302-983-6966
ORGANIZER:Hockessin-Greenville Rotary Club
ATTACH;FMTTYPE="image/jpeg":http://storage.ning.com/topology/rest/1.0/
 file/get/2284112756?profile=original
ATTENDEE;ROLE=REQ-PARTICIPANT;PARTSTAT=ACCEPTED;RSVP=TRUE;CN="LaBarre 
 Everette":https://northeastwheelsevents.com/profile/LaBarreEverette
END:VEVENT
END:VCALENDAR
