BEGIN:VCALENDAR
PRODID:NingEventWidget-v1
VERSION:2.0
METHOD:PUBLISH
BEGIN:VEVENT
UID:5167423:Event:100283
DTSTAMP:20260425T203801Z
SUMMARY:9th Annual Winter Beater Cruise
DESCRIPTION:Motor Menders Rod & Custom Club\n9th Annual Winter Beater 
 Cruise\n\nBRING YOUR BEATER\n3 Trophies for the UGLIEST CARS\nDash Pla
 ques  50/50 Drawing\n\nSHOW CARS  ARE OPTIONAL IF WEATHER PERMITS \
 n\nBlizzard Date - February 20th\n \n\nFor more information visit htt
 ps://northeastwheelsevents.com/events/9th-annual-winter-beater-cruise
DTSTART:20160213T160000Z
DTEND:20160213T200000Z
CATEGORIES:cruise
LOCATION:Markets At Shrewsbury
WEBSITE:http://www.marketsatshrewsbury.com
URL:http://www.marketsatshrewsbury.com
CONTACT:717-495-5038
ORGANIZER;CN="Steve Smith":https://northeastwheelsevents.com/profile/S
 teveSmith
ATTACH;FMTTYPE="image/jpeg":http://storage.ning.com/topology/rest/1.0/
 file/get/2284077691?profile=original
ATTENDEE;ROLE=REQ-PARTICIPANT;PARTSTAT=ACCEPTED;RSVP=TRUE;CN="Steve Sm
 ith":https://northeastwheelsevents.com/profile/SteveSmith
END:VEVENT
END:VCALENDAR
