BEGIN:VCALENDAR
PRODID:NingEventWidget-v1
VERSION:2.0
METHOD:PUBLISH
BEGIN:VEVENT
UID:5167423:Event:347808
DTSTAMP:20260425T202215Z
SUMMARY:A day in may 2026
DESCRIPTION:\n\nFor more information visit https://northeastwheelseven
 ts.com/events/a-day-in-may-2026
DTSTART:20260531T150000Z
DTEND:20260531T200000Z
CATEGORIES:carshow
LOCATION:Marge goodfellow community park
WEBSITE:
URL:
CONTACT:
ORGANIZER;CN="Isaiah Campbell":https://northeastwheelsevents.com/profi
 le/IsaiahCampbell
ATTACH;FMTTYPE="image/jpeg":https://storage.ning.com/topology/rest/1.0
 /file/get/31064989862?profile=original
ATTENDEE;ROLE=REQ-PARTICIPANT;PARTSTAT=ACCEPTED;RSVP=TRUE;CN="Isaiah C
 ampbell":https://northeastwheelsevents.com/profile/IsaiahCampbell
END:VEVENT
END:VCALENDAR
