BEGIN:VCALENDAR
PRODID:NingEventWidget-v1
VERSION:2.0
METHOD:PUBLISH
BEGIN:VEVENT
UID:5167423:Event:334830
DTSTAMP:20260422T213517Z
SUMMARY:A Night of Cars and Costumes Car Show
DESCRIPTION:Come enjoy a night of cars and costumes at Kinsmen Brewing
  Company. \r\n\r\nDate: Tuesday October 15th\r\nTime: 6p - 9p\r\nLoca
 tion: Kinsmen Brewing Company\r\n409 Canale Street Milldale CT\r\nhttp
 s://www.kinsmenbrewing.com/home/ \r\nFood & drinks is available in to
  purchase inside. \r\n\r\nWe will feature: \r\n- Costume contest\r\n
 - Awards for Best Decorated Vehicles\r\n- Music\r\n- Family Friendly E
 ntertainment \r\n\r\nLet’s showcase some awesome cars and costumes.
  Bring out your cosplay and halloweeen costumes for this event. \r\n\
 r\nVehicles with special anime comic and movie themes decorations will
  have a V.I.P section. \r\n\r\nPlease DM @rad.stallions or email rad
 stallionsct@gmail.com for your V.I.P vehicle decorations or theme sub
 missions application. \r\n\r\n**Limited space is available**\r\n\r\nW
 e encourage candy donations from the car show participants to be given
  out to the kids. \r\n\r\n**This is a free event.**\r\n\r\nPlease res
 pect the locations property no speeding no burn outs no reckless drivi
 ng. \r\n\r\n#rad #radstallions #ctmoviecars #moviecars #kinsmenbrewin
 gcompany #brewery #cruisenight #trunkortreat #cosplay #carsofct #ctcar
 meet #ctcarcruise #ctcosplay\r\n\r\nAbout RAD STALLIONS\r\n\r\n\r\n\r\
 nAutomotive Enthusiasts Club in the Connecticut and surrounding areas.
  Join and follow to see the vehicles from the 1980s and 1990s era at c
 ar shows and meets. Come meet members and see some nice rides, go to l
 ocal meets in the area.\r\n\r\n\n\nFor more information visit https://
 northeastwheelsevents.com/events/a-night-of-cars-and-costumes-car-show
DTSTART:20241015T220000Z
DTEND:20241016T010000Z
CATEGORIES:cruise-in, trunkortreat
LOCATION:Kinsmen Brewing Company.
WEBSITE:https://allevents.in/milldale/cars-and-costumes/80003411997116
URL:https://allevents.in/milldale/cars-and-costumes/80003411997116
CONTACT:860-426-2133
ORGANIZER:RAD STALLIONS/CT Movie Cars
ATTACH;FMTTYPE="image/jpeg":https://storage.ning.com/topology/rest/1.0
 /file/get/12976033089?profile=original
ATTENDEE;ROLE=REQ-PARTICIPANT;PARTSTAT=ACCEPTED;RSVP=TRUE;CN="William 
 Bruce":https://northeastwheelsevents.com/profile/WilliamBruce
END:VEVENT
END:VCALENDAR
