BEGIN:VCALENDAR
PRODID:NingEventWidget-v1
VERSION:2.0
METHOD:PUBLISH
BEGIN:VEVENT
UID:5167423:Event:138577
DTSTAMP:20260424T105727Z
SUMMARY:A Special Event featuring “Grace” the Austin Healey 100 wi
 th a remarkable back story.
DESCRIPTION:Join us for a special event featuring “Grace” the Aust
 in Healey 100 with a remarkable back story. GRACE is an Austin Healey 
 100 purchased in a derelict state from eBay suffering from deleterious
  rust and poor oil pressure.\nHer owner was given a near death sentenc
 e from his oncologist but a few stalwart members of his local car club
  decided to inspire him by using this unlikely candidate complete a co
 ast-to-coast-to-coast drive to prove that sometimes the impossible is 
 possible, given hope, faith, and random acts of kindness of strangers 
 and friends.\nWe are expecting a great turnout from several of the peo
 ple who were involved with rebuilding the car, and they will share the
 ir stories:\nJohn Nikas, the man behind the car and traveled thousands
  of miles to visit cancer patients in this dilapidated car, as well as
  Andy Reid from ClassicCars.com as well as visitors from various car
  clubs are expected to attend.\n\nFor more information visit https://n
 ortheastwheelsevents.com/events/a-special-event-featuring-grace-the-au
 stin-healey-100-with-a-rema
DTSTART:20161210T170000Z
DTEND:20161210T200000Z
CATEGORIES:discussion
LOCATION:Simeone Museum, Philadelphia
WEBSITE:http://www.simeonemuseum.org
URL:http://www.simeonemuseum.org
CONTACT:215-365-7233
ORGANIZER:Simeone Museum
ATTACH;FMTTYPE="image/jpeg":http://storage.ning.com/topology/rest/1.0/
 file/get/2284090763?profile=original
ATTENDEE;ROLE=REQ-PARTICIPANT;PARTSTAT=ACCEPTED;RSVP=TRUE;CN="Pamela H
 irschhorn":https://northeastwheelsevents.com/profile/PamelaHirschhorn
END:VEVENT
END:VCALENDAR
