BEGIN:VCALENDAR
PRODID:NingEventWidget-v1
VERSION:2.0
METHOD:PUBLISH
BEGIN:VEVENT
UID:5167423:Event:22217
DTSTAMP:20260424T100113Z
SUMMARY:AAG \"Insider Information Symposium\"
DESCRIPTION:Learn from the Pros! Attend the AAG \"Insider Information\
 " Symposium and learn about auto collecting from an industry leader.\n
 Seminar Topics Include:  Current Trends of the Market, Best Collector
  Car Investments, How to find Your Dream Car & More!\nRegister today -
 - Limited Seating Available.\nwww.autoappraisal.com\n800-848-2886\n\nL
 ink: http://www.autoappraisal.com/insider2013.\n\nFor more informatio
 n visit https://northeastwheelsevents.com/events/aag-insider-informati
 on-symposium
DTSTART:20130606T040000Z
DTEND:20130609T035900Z
CATEGORIES:symposium
LOCATION:AACA Museum, Hershey PA
WEBSITE:http://aacamuseum.org
URL:http://aacamuseum.org
CONTACT:717 566-7100
ORGANIZER:AAG
ATTACH;FMTTYPE="image/jpeg":http://storage.ning.com/topology/rest/1.0/
 file/get/2284050676?profile=original
ATTENDEE;ROLE=REQ-PARTICIPANT;PARTSTAT=ACCEPTED;RSVP=TRUE;CN="Pamela H
 irschhorn":https://northeastwheelsevents.com/profile/PamelaHirschhorn
END:VEVENT
END:VCALENDAR
