BEGIN:VCALENDAR
PRODID:NingEventWidget-v1
VERSION:2.0
METHOD:PUBLISH
BEGIN:VEVENT
UID:5167423:Event:234339
DTSTAMP:20260422T085526Z
SUMMARY:AHRMA Vintage Motorcycle Festival and Swap Meet
DESCRIPTION:The 7th Annual AHRMA Vintage Motorcycle Festival featuring
  vintage motorcycle racing, swap meet, food trucks, craft vendors, liv
 e music, parade laps, FREE motorcycle show, and more kicks off Friday,
  May 24– 26! The American Historic Racing Motorcycle Association (AH
 RMA) is a not-for-profit organization dedicated to restoring and compe
 ting on classic motorcycles. With over 3,000 members, AHRMA is the lar
 gest vintage racing group in North America and one of the biggest in t
 he world. The swap meet will feature 60,000 square feet full of parts,
  bikes, merchandise, and collectibles. This is a rain or shine event!\
 n\nFor more information visit https://northeastwheelsevents.com/events
 /ahrma-vintage-motorcycle-festival-and-swap-meet
DTSTART:20190524T130000Z
DTEND:20190526T220000Z
CATEGORIES:motorcycle, festival, swap, meet
LOCATION:New Jersey Motorsports Park
WEBSITE:https://njmp.com/tickets-events/events/the-6th-annual-ahrma-vi
 ntage-motorcycle-festival-swap-meet/
URL:https://njmp.com/tickets-events/events/the-6th-annual-ahrma-vintag
 e-motorcycle-festival-swap-meet/
CONTACT:8563278000
ORGANIZER;CN="Sarah Banker":https://northeastwheelsevents.com/profile/
 SarahBanker
ATTACH;FMTTYPE="image/jpeg":https://storage.ning.com/topology/rest/1.0
 /file/get/995336790?profile=original
ATTENDEE;ROLE=REQ-PARTICIPANT;PARTSTAT=ACCEPTED;RSVP=TRUE;CN="Sarah Ba
 nker":https://northeastwheelsevents.com/profile/SarahBanker
END:VEVENT
END:VCALENDAR
