BEGIN:VCALENDAR
PRODID:NingEventWidget-v1
VERSION:2.0
METHOD:PUBLISH
BEGIN:VEVENT
UID:5167423:Event:141253
DTSTAMP:20260423T090011Z
SUMMARY:Al's Pizza Cruise In
DESCRIPTION: \n\n\n\nBlue Moon Cruisers Cruise In - Car, Truck, and M
 otorcycle\nOpen to all Years, Makes and Models\n50/50\nRegistration Fe
 e - Donation, Dash Plaques - Given to the first 50 vehicles\n\nFor mor
 e information visit https://northeastwheelsevents.com/events/al-s-pizz
 a-cruise-in-1
DTSTART:20170902T170000Z
DTEND:20170902T200000Z
CATEGORIES:cruise, in
LOCATION:Al's Pizza
WEBSITE:http://www.bluemooncruisers.com
URL:http://www.bluemooncruisers.com
CONTACT:717-432-8147
ORGANIZER:Dana Moore
ATTACH;FMTTYPE="image/jpeg":http://storage.ning.com/topology/rest/1.0/
 file/get/2284092608?profile=original
ATTENDEE;ROLE=REQ-PARTICIPANT;PARTSTAT=ACCEPTED;RSVP=TRUE;CN="Joshua E
 . Sigman":https://northeastwheelsevents.com/profile/JoshuaESigman
ATTENDEE;ROLE=REQ-PARTICIPANT;PARTSTAT=TENTATIVE;RSVP=TRUE;CN="Blaine 
 McKivison":https://northeastwheelsevents.com/profile/BlaineMcKivison
END:VEVENT
END:VCALENDAR
