BEGIN:VCALENDAR
PRODID:NingEventWidget-v1
VERSION:2.0
METHOD:PUBLISH
BEGIN:VEVENT
UID:5167423:Event:141532
DTSTAMP:20260419T101118Z
SUMMARY:Al's Pizza Cruise In
DESCRIPTION:\nBlue Moon Cruisers Cruise In - Car, Truck, and Motorcycl
 e\nOpen to all Years, Makes and Models\n50/50\nRegistration Fee - Dona
 tion Dash Plaques - Given to the first 50 vehicles\n\nFor more informa
 tion visit https://northeastwheelsevents.com/events/al-s-pizza-cruise-
 in
DTSTART:20170401T170000Z
DTEND:20170401T200000Z
CATEGORIES:cruise, in
LOCATION:Al's Pizza
WEBSITE:http://www.bluemooncruisers.com
URL:http://www.bluemooncruisers.com
CONTACT:717-432-8147
ORGANIZER:Dana Moore
ATTACH;FMTTYPE="image/jpeg":http://storage.ning.com/topology/rest/1.0/
 file/get/2284092608?profile=original
ATTENDEE;ROLE=REQ-PARTICIPANT;PARTSTAT=ACCEPTED;RSVP=TRUE;CN="Joshua E
 . Sigman":https://northeastwheelsevents.com/profile/JoshuaESigman
END:VEVENT
END:VCALENDAR
