BEGIN:VCALENDAR
PRODID:NingEventWidget-v1
VERSION:2.0
METHOD:PUBLISH
BEGIN:VEVENT
UID:5167423:Event:335552
DTSTAMP:20260424T144612Z
SUMMARY:Albany Auto Show (Theater)    SATURDA: 10:00AM – 7:00PM
DESCRIPTION:Don't miss Albany Auto Show (Theater) happening at MVP Are
 na, Albany, NY, United States on Friday - Sunday, 2024-11-01 from 3:00
 pm-7:00pm, 11/2/24 from 10:00am-7:00pm, 11/3/24- 10:00am-05:00pm. A gr
 eat evening with good music and a laid-back atmosphere awaits you. Inv
 ite your friends for a night out! **Event Details**\r\n* $10 (adults);
  Free (children under 12 with paid adult).\r\n* New car show featuring
  more than 25 automotive brands and models from all, showcasing the la
 test safety features, options and styling! Additional exhibitor booths
  featuring auto-related products and services.\r\n* The first 50 paid 
 attendees of EVERY day of the show will receive a free Albany Firewolv
 es Ticket to the 2024-2025 Season Home Opener in December!\r\n* The G
 reat Gas Card Giveaway: Every hour of the show a lucky attendee will w
 in a $100 gas card!\r\n* Check out the Classic Car Display from the Sa
 ratoga Auto Museum in the front atrium.\r\n*Children's show favorite, 
 Mr. Twisty, will be on site 12-4pm, Saturday and Sunday.\r\n** * **Loc
 ation:** MVP Arena, Albany, NY, United States Reserve your place now f
 or an unparalleled exciting experience.\r\nhttps://www.mvparena.com/ev
 ents/detail/albany-auto-show-2024/; #AlbanyAutoShow(Theater) #event #e
 xciting #AlbanyEvents #NYEvents\n\nFor more information visit https://
 northeastwheelsevents.com/events/albany-auto-show-theater-saturda-10-0
 0am-7-00pm
DTSTART:20241101T140000Z
DTEND:20241103T220000Z
CATEGORIES:carshow
LOCATION:MVP Arena
WEBSITE:https://allevents.in/albany/albany-auto-show-theater/240002738
 4970601
URL:https://allevents.in/albany/albany-auto-show-theater/2400027384970
 601
CONTACT:518-487-2000
ORGANIZER:MVP Arena
ATTACH;FMTTYPE="image/jpeg":https://storage.ning.com/topology/rest/1.0
 /file/get/13055706490?profile=original
ATTENDEE;ROLE=REQ-PARTICIPANT;PARTSTAT=ACCEPTED;RSVP=TRUE;CN="William 
 Bruce":https://northeastwheelsevents.com/profile/WilliamBruce
END:VEVENT
END:VCALENDAR
