BEGIN:VCALENDAR
PRODID:NingEventWidget-v1
VERSION:2.0
METHOD:PUBLISH
BEGIN:VEVENT
UID:5167423:Event:315701
DTSTAMP:20260422T071657Z
SUMMARY:Alcyone Lodge #695 F&AM In partnership with The Fabulous 50s& 
 60s Nostalgia Car Club
DESCRIPTION:proudly present our annual judged Car Show Sunday July 9 2
 023 rain date July 16 2023 location 30 Platinum Ct Medford NY $20 per 
 vehicle $15 pre registration spectators $5  50/50 vendors music DJ St
 eve contact Arthur 631-463-4983 over 14 thropy classes \n\nFor more i
 nformation visit https://northeastwheelsevents.com/events/alcyone-lodg
 e-695-f-amp-am-in-partnership-with-the-fabulous-50s
DTSTART:20230709T130000Z
DTEND:20230709T190000Z
CATEGORIES:car, show, "/", fundraiser, for, the, "mason's"
LOCATION:Penn Fabrication
WEBSITE:http://www.Fab50s60sCarClub.com
URL:http://www.Fab50s60sCarClub.com
CONTACT:631-463-4983
ORGANIZER:Arthur
ATTACH;FMTTYPE="image/jpeg":https://storage.ning.com/topology/rest/1.0
 /file/get/11488036900?profile=original
ATTENDEE;ROLE=REQ-PARTICIPANT;PARTSTAT=ACCEPTED;RSVP=TRUE;CN="john for
 lenza":https://northeastwheelsevents.com/profile/johnforlenza
END:VEVENT
END:VCALENDAR
