BEGIN:VCALENDAR
PRODID:NingEventWidget-v1
VERSION:2.0
METHOD:PUBLISH
BEGIN:VEVENT
UID:5167423:Event:5702
DTSTAMP:20260425T091640Z
SUMMARY:ALDAN BOY SCOUT TROOP 2 CAR SHOW
DESCRIPTION:ALDAN BOY SCOUT TROOP 2 CAR SHOW\nprovidence rd and clifto
 n ave aldan pa 19018\ndash plaques\nbest of show\nall proceeds go to b
 oy scout troop\n \n \nquestions call tom manning\n \n\\n\nFor more 
 information visit https://northeastwheelsevents.com/events/aldan-boy-s
 cout-troop-2-car
DTSTART:20110521T140000Z
DTEND:20110521T190000Z
CATEGORIES:benefit, car, show
LOCATION:park across from police station
WEBSITE:
URL:
CONTACT:610-329-2830
ORGANIZER;CN="tom manning":https://northeastwheelsevents.com/profile/t
 ommanning
ATTACH;FMTTYPE="image/jpeg":
ATTENDEE;ROLE=REQ-PARTICIPANT;PARTSTAT=ACCEPTED;RSVP=TRUE;CN="tom mann
 ing":https://northeastwheelsevents.com/profile/tommanning
END:VEVENT
END:VCALENDAR
