BEGIN:VCALENDAR
PRODID:NingEventWidget-v1
VERSION:2.0
METHOD:PUBLISH
BEGIN:VEVENT
UID:5167423:Event:129453
DTSTAMP:20260424T225243Z
SUMMARY:All Air Cooled Gathering
DESCRIPTION:\nCome to the north east's premier vintage Volkswagen even
 t. Our Klub Kompetition Bug Push contest is heating up again and the n
 ew Valve Cover Racing will be even more competitive this year. There w
 ill be activities for the kids, live music and the Voice of Volkswagen
  Drag Racing, \"Dyno Don\" Chamberlin will be back to make the show be
 tter than ever!\nTHIS YEAR WE WILL BE HONORING ALL VOLKSWAGEN DUNE BUG
 GIES!\nGates open at 4pm on Friday Sept. 16th for camping and continue
 s on Saturday the 17th with more camping and VW camaraderie including 
 an evening party [with live music] in the clubhouse! On Sunday Sept 18
 th we will kick off the main event at 8am with the big show, swap meet
 , dub push, valve cover racing, huge raffle, kids games and much, much
  more! \nEveryone is encouraged to enter the show, daily drivers to sh
 ow cars, early or late model. As long as it’s an air-cooled, it’s 
 welcome. A portion of the proceeds will go to help support Operation J
 ersey Cares. They're an all volunteer organization that provides care 
 and support for present and past NJ Combat Veterans.\nClick here to do
 wnload the flyer\n\n\n\n\nTrophies – Dash Plaques – Raffle Prizes 
 – On-site bar, kitchen and live music.\n\n\n\n\nAdmission\nEntrance 
 to the show on Sunday – $15.00 [per person, including your car] $10.
 00 additional for Camping [per person, all weekend] $10.00 additional 
 for Swap Meet space [Sunday only] Kids 12 and under – FREE!\nFor mor
 e information or to help sponsor this event, email us or call 908-377-
 5577\nHotel accomodations with special show rates have been arranged n
 ear by at Extended Stay America in Budd Lake N.J. 973-347-5522\nSorry,
  No BYO Alcohol – Click here to download our pet\n\n\n\n\n\nFor more
  information visit https://northeastwheelsevents.com/events/all-air-co
 oled-gathering
DTSTART:20160916T200000Z
DTEND:20160919T020000Z
CATEGORIES:air, cooled, show
LOCATION:Located at the Swim and Sport Club of Flanders New Jersey
WEBSITE:http://allaircooledgathering.com/
URL:http://allaircooledgathering.com/
CONTACT:(973) 584-9790
ORGANIZER:
ATTACH;FMTTYPE="image/jpeg":http://storage.ning.com/topology/rest/1.0/
 file/get/2284089775?profile=original
ATTENDEE;ROLE=REQ-PARTICIPANT;PARTSTAT=ACCEPTED;RSVP=TRUE;CN="Jim Baue
 rnfeind":https://northeastwheelsevents.com/profile/JimBauernfeind
END:VEVENT
END:VCALENDAR
