BEGIN:VCALENDAR
PRODID:NingEventWidget-v1
VERSION:2.0
METHOD:PUBLISH
BEGIN:VEVENT
UID:5167423:Event:44381
DTSTAMP:20260422T170450Z
SUMMARY:All-American Car, Truck & Motorcycle Show
DESCRIPTION:\n\nFor more information visit https://northeastwheelseven
 ts.com/events/all-american-car-truck-motorcycle-show
DTSTART:20140601T123000Z
DTEND:20140601T190000Z
CATEGORIES:all-american, car, truck, "&", motorcycle, show, to, benefi
 t, a, shawl, of, hope, organ, transplant, support, foundation
LOCATION:Mall at 206 in Flanders, NJ. Across from the Golf Zone. Right
  in front of the Corner Pub
WEBSITE:https://www.facebook.com/AShawlofHope
URL:https://www.facebook.com/AShawlofHope
CONTACT:973-713-8604
ORGANIZER;CN="Storm Shawl":https://northeastwheelsevents.com/profile/S
 tormShawl
ATTACH;FMTTYPE="image/jpeg":http://storage.ning.com/topology/rest/1.0/
 file/get/2284061013?profile=original
ATTENDEE;ROLE=REQ-PARTICIPANT;PARTSTAT=ACCEPTED;RSVP=TRUE;CN="Storm Sh
 awl":https://northeastwheelsevents.com/profile/StormShawl
END:VEVENT
END:VCALENDAR
