BEGIN:VCALENDAR
PRODID:NingEventWidget-v1
VERSION:2.0
METHOD:PUBLISH
BEGIN:VEVENT
UID:5167423:Event:142447
DTSTAMP:20260424T073006Z
SUMMARY:ALL DAY TESTING INTO THE NIGHT Test & Tune & Grudge Match Raci
 ng & N/T
DESCRIPTION:\n\n\n\nFor more information visit https://northeastwheels
 events.com/events/all-day-testing-into-the-night-test-tune-grudge-matc
 h-racing-n-t
DTSTART:20170408T040000Z
DTEND:20170409T030000Z
CATEGORIES:race
LOCATION:Capitol Raceway
WEBSITE:http://capitolraceway.com
URL:http://capitolraceway.com
CONTACT:(410)721-4575
ORGANIZER:
ATTACH;FMTTYPE="image/jpeg":http://storage.ning.com/topology/rest/1.0/
 file/get/2284094598?profile=original
ATTENDEE;ROLE=REQ-PARTICIPANT;PARTSTAT=ACCEPTED;RSVP=TRUE;CN="Christop
 her Gosney":https://northeastwheelsevents.com/profile/ChristopherGosne
 y
END:VEVENT
END:VCALENDAR
