BEGIN:VCALENDAR
PRODID:NingEventWidget-v1
VERSION:2.0
METHOD:PUBLISH
BEGIN:VEVENT
UID:5167423:Event:242889
DTSTAMP:20260423T051643Z
SUMMARY:All Mopar Cruise-In - Harrisburg
DESCRIPTION:Open to all Makes & Models and years of Chrysler, Dodge, R
 am, Jeep, AMC and Plymouth..\n\nFind out what other Mopar Owners are d
 oing with their Vehicles, It doesn't matter if your vehicle is bone st
 ock or \nFull Custom, it's all about the passion.\n\nVisit us at PaMo
 par.com.  Pennsylvania's home for Mopar Owners\n\n\nFor more informat
 ion visit https://northeastwheelsevents.com/events/all-mopar-cruise-in
 -harrisburg
DTSTART:20190616T190000Z
DTEND:20190616T220000Z
CATEGORIES:cruise-in
LOCATION:Boomerangs
WEBSITE:http://www.pamopar.com  (it&amp;amp;amp;amp;amp;amp;amp;amp;am
 p;amp;amp;amp;amp;amp;amp;amp;amp;amp;amp;amp;#039;s down at the momen
 t)
URL:http://www.pamopar.com  (it&amp;amp;amp;amp;amp;amp;amp;amp;amp;am
 p;amp;amp;amp;amp;amp;amp;amp;amp;amp;amp;#039;s down at the moment)
CONTACT:17176025931
ORGANIZER;CN="Mike brown":https://northeastwheelsevents.com/profile/Mi
 keBrown
ATTACH;FMTTYPE="image/jpeg":https://storage.ning.com/topology/rest/1.0
 /file/get/2056475321?profile=original
ATTENDEE;ROLE=REQ-PARTICIPANT;PARTSTAT=ACCEPTED;RSVP=TRUE;CN="Mike bro
 wn":https://northeastwheelsevents.com/profile/MikeBrown
END:VEVENT
END:VCALENDAR
