BEGIN:VCALENDAR
PRODID:NingEventWidget-v1
VERSION:2.0
METHOD:PUBLISH
BEGIN:VEVENT
UID:5167423:Event:242936
DTSTAMP:20260422T033637Z
SUMMARY:All Mopar Cruise-In - Manheim
DESCRIPTION:Open to all Makes & Models and years of Chrysler, Dodge, R
 am, Jeep, AMC and Plymouth..\n\nFind out what other Mopar Owners are d
 oing with their Vehicles, It doesn't matter if your vehicle is bone st
 ock or \nFull Custom, it's all about the passion.\n\nVisit us at PaMo
 par.com.  Pennsylvania's home for Mopar Owners\n\n\n\nFor more inform
 ation visit https://northeastwheelsevents.com/events/all-mopar-cruise-
 in-manheim-1
DTSTART:20190522T220000Z
DTEND:20190523T010000Z
CATEGORIES:cruise-in
LOCATION:The Shack Restaurant and Miniature golf
WEBSITE:http://www.pamopar.com  (it&amp;amp;amp;amp;amp;amp;amp;amp;am
 p;amp;amp;amp;amp;amp;amp;amp;amp;amp;amp;amp;amp;amp;amp;amp;amp;amp;
 #039;s down at the moment)
URL:http://www.pamopar.com  (it&amp;amp;amp;amp;amp;amp;amp;amp;amp;am
 p;amp;amp;amp;amp;amp;amp;amp;amp;amp;amp;amp;amp;amp;amp;amp;amp;#039
 ;s down at the moment)
CONTACT:17176025931
ORGANIZER;CN="Mike brown":https://northeastwheelsevents.com/profile/Mi
 keBrown
ATTACH;FMTTYPE="image/jpeg":https://storage.ning.com/topology/rest/1.0
 /file/get/2056475321?profile=original
ATTENDEE;ROLE=REQ-PARTICIPANT;PARTSTAT=ACCEPTED;RSVP=TRUE;CN="Mike bro
 wn":https://northeastwheelsevents.com/profile/MikeBrown
END:VEVENT
END:VCALENDAR
