BEGIN:VCALENDAR
PRODID:NingEventWidget-v1
VERSION:2.0
METHOD:PUBLISH
BEGIN:VEVENT
UID:5167423:Event:239631
DTSTAMP:20260420T164908Z
SUMMARY:Allentown Area Corvette Club SPRINGFEST
DESCRIPTION:Our 18th SPRINGFEST is a judged event featuring over 50 aw
 ards.  Partial proceeds from this all-Corvette show go to the Angel 3
 4 Foundation which provides funding for pediatric cancer research.  C
 lasses include street stock, modified, custom, as well as best-of-show
  and sponsor's awards.  The first 125 pre-registered cars will receiv
 e goody bags.  Our fantastic Tricky Tray, DJ, Door Prizes, Vendors an
 d Food will keep the crowds busy all day!  We are in a new location t
 his year, and showing on Saturday rather than Sunday.  The Penn State
  Campus is right across from the Promenade Shops at Saucon Valley wher
 e you will find fine dining and shopping.  Please visit our website (
 www.allentowncorvetteclub.org) to view the flyer for more information 
 and registration instructions.\n\n\n\nFor more information visit https
 ://northeastwheelsevents.com/events/allentown-area-corvette-club-sprin
 gfest
DTSTART:20190601T123000Z
DTEND:20190601T190000Z
CATEGORIES:corvette, car, show
LOCATION:Penn State Lehigh Valley Campus
WEBSITE:
URL:
CONTACT:9732196307
ORGANIZER:Joe Iervolino &amp; David Hausman
ATTACH;FMTTYPE="image/jpeg":https://storage.ning.com/topology/rest/1.0
 /file/get/1343731082?profile=original
ATTENDEE;ROLE=REQ-PARTICIPANT;PARTSTAT=ACCEPTED;RSVP=TRUE;CN="RT Paul"
 :https://northeastwheelsevents.com/profile/RTPaul
END:VEVENT
END:VCALENDAR
