BEGIN:VCALENDAR
PRODID:NingEventWidget-v1
VERSION:2.0
METHOD:PUBLISH
BEGIN:VEVENT
UID:5167423:Event:34429
DTSTAMP:20260422T133510Z
SUMMARY:Allentown Auto Mania
DESCRIPTION:For more than two decades, Auto Mania has been Pennsylvani
 a's biggest indoor heated swap meet and the tradition continues this y
 ear with support from Carlisle Events. The 59,000 square foot facility
  that is Agricultural Hall at the Allentown PA Fairgrounds plays host 
 to a wide array of vendors and attendees annually. This event is a gre
 at opportunity to interact with likeminded enthusiasts in a family fri
 endly atmosphere and is the perfect setting to buy, sell and trade all
  things automotive. Auto Mania not only has a swap meet, there is a ca
 r corral too. There's a great array of parts, literature, services and
  more. Best of all, you're less than two hours from New York City, Phi
 ladelphia and Scranton with major roads like I-78, the Pennsylvania Tu
 rnpike and Route 22 all nearby. This event takes place no matter the w
 eather and won't cancel, be postponed or rescheduled under any circums
 tance. Consider spending your weekend with Carlisle Events in Allentow
 n for Auto Mania and jumpstart the New Year with great automotive exci
 tement. \n\nFor more information visit https://northeastwheelsevents.
 com/events/allentown-auto-mania-1
DTSTART:20150116T050000Z
DTEND:20150119T045900Z
CATEGORIES:swap, meet, car, corral
LOCATION:Allentown Fairgrounds
WEBSITE:http://www.carlisleevents.com/carlisle-events/automania/defaul
 t.aspx
URL:http://www.carlisleevents.com/carlisle-events/automania/default.as
 px
CONTACT:7172437855
ORGANIZER:Carlisle Events
ATTACH;FMTTYPE="image/jpeg":http://storage.ning.com/topology/rest/1.0/
 file/get/2284048683?profile=original
ATTENDEE;ROLE=REQ-PARTICIPANT;PARTSTAT=ACCEPTED;RSVP=TRUE;CN="Tom Long
 ":https://northeastwheelsevents.com/profile/TomLong
ATTENDEE;ROLE=REQ-PARTICIPANT;PARTSTAT=ACCEPTED;RSVP=TRUE;CN="Carlisle
  Events":https://northeastwheelsevents.com/profile/MichaelGarland
END:VEVENT
END:VCALENDAR
