BEGIN:VCALENDAR
PRODID:NingEventWidget-v1
VERSION:2.0
METHOD:PUBLISH
BEGIN:VEVENT
UID:5167423:Event:136291
DTSTAMP:20260423T224113Z
SUMMARY:Allentown Indoor Racing Indoor Auto Racing Championship
DESCRIPTION:FRIDAY, DECEMBER 30 7am Garage Opens 10am Inspection Begin
 s (Fueling Begins) 11am Draw Opens for Time Trials 12pm Drivers Meetin
 g 1-3:45pm Practice Begins: Order for Practice TQ (Tires Out), TQ (Tir
 es Out), Slingshots (Tires In), TQ (Tires In), Slingshots (Tires In) 4
 :00pm TQ Midget Time Trials - 2 Laps 4:45pm Prepare Track for Fanfest 
 - Drivers & Cars Only! 5:30pm Grandstands Open for Fanfest 7:30pm Raci
 ng Begins - 80 TQs / 30 Slingshots (1) TQ Last Chance Race - (67-80) i
 n TT, 14 Cars - 10 Laps - 6 Qualify to Heats (3) Slingshot Heats - 10 
 Cars, 8 Laps - 5 Qualify (6) TQ Heat Races - 12 Cars, 10 Laps - 3 Qual
 ify - Top 66 in Time Trials plus 6 from LC - Top 18 inverted / Fast Ti
 me starts 3. Slingshot B-Main - 12 Cars, 8 Laps - 5 Qualify (3) TQ B-M
 ains - 18 Cars, 12 Laps - 2 Qualify - Fastest non-qualified cars from 
 each start on front row. - Example B-Main #1 - Fastest from heat 1 pol
 e / heat 2 second - Rest of line-up heads up from heat races. Intermis
 sion - TQ Feature Re-Draw 6 Heat Winners Slingshot Feature - 20 Cars, 
 20 Laps TQ A-Main - 24 Cars, 40 Laps SATURDAY, DECEMBER 31 9am Garage 
 Opens 10am Inspection Begins (Fueling Begins) 11am Draw Opens for Cham
 p Kart Heats 12pm Drivers Meeting 1pm Practice Begins: Order for Pract
 ice TQ (Tires Out), Champ Karts (Tires In), TQ (Tires In), Champ Karts
  (Tires In) 2:00pm Grandstands Open 3:00pm PRACTICE OVER! 4:00pm Racin
 g Begins - 80 TQs / 30 Champ Karts (1) TQ Last Chance Race - 67-80 in 
 Friday Points - 6 Qualify to Heats (3) Champ Kart Heats - 10 Cars, 8 L
 aps - 6 Qualify (6) TQ Heat Races - 12 Cars, 10 Laps - 3 Qualify - Top
  66 in Friday Points plus 6 from LC - Top 18 inverted / High Points st
 arts 3. Champ Kart B-Main - 12 Cars, 8 Laps - 4 Qualify (3) TQ B-Mains
  - 18 Cars, 12 Laps - 2 Qualify - Heads Up Heat Finishes Champ Kart Fe
 ature - 20 Cars, 20 Laps TQ A-Main - 24 Cars, 40 Laps - Heads Up Heat 
 Finishes\n\nFor more information visit https://northeastwheelsevents.c
 om/events/allentown-indoor-racing-indoor-auto-racing-championship
DTSTART:20161230T120000Z
DTEND:20161231T220000Z
CATEGORIES:midget, race
LOCATION:PPL Center
WEBSITE:http://aarn.com/wp-content/uploads/2016/09/Allentown-Race-Sche
 dule-Dec-2016-1.pdf
URL:http://aarn.com/wp-content/uploads/2016/09/Allentown-Race-Schedule
 -Dec-2016-1.pdf
CONTACT:Len Sammons Motorsports - 609-888-3618
ORGANIZER:Len Sammons Motorsports
ATTACH;FMTTYPE="image/jpeg":http://storage.ning.com/topology/rest/1.0/
 file/get/2284090362?profile=original
ATTENDEE;ROLE=REQ-PARTICIPANT;PARTSTAT=ACCEPTED;RSVP=TRUE;CN="Pamela H
 irschhorn":https://northeastwheelsevents.com/profile/PamelaHirschhorn
END:VEVENT
END:VCALENDAR
