BEGIN:VCALENDAR
PRODID:NingEventWidget-v1
VERSION:2.0
METHOD:PUBLISH
BEGIN:VEVENT
UID:5167423:Event:144615
DTSTAMP:20260423T021218Z
SUMMARY:ALPCA Chesapeake Region 8th annual summer plate meet
DESCRIPTION:Tables are $10 each; walk-ins $5. Donation auction will be
  held; refreshments and lunch available. Awards for best pre-state, po
 rcelain, or first year issue display; best general display; and furthe
 st distance traveled. We have run out of tables in the past, so we str
 ongly encourage reserving tables by paying for them in advance. If nec
 essary, any remaining unreserved tables will be assigned by lottery at
  the start of the meet. \n\nFor more information visit https://northe
 astwheelsevents.com/events/alpca-chesapeake-region-8th-annual-summer-p
 late-meet
DTSTART:20170812T120000Z
DTEND:20170812T190000Z
CATEGORIES:license, plate, meet
LOCATION:St. Michael's Catholic Church of Poplar Springs
WEBSITE:http://www.alpca-chesapeake.org/
URL:http://www.alpca-chesapeake.org/
CONTACT:Rick Kretschmer at rickkret@gmail.com or 919-553-7975 (home) o
 r 919-673-7719 (cell)
ORGANIZER;CN="Alex Martin":https://northeastwheelsevents.com/profile/A
 lexmartin
ATTACH;FMTTYPE="image/jpeg":
ATTENDEE;ROLE=REQ-PARTICIPANT;PARTSTAT=ACCEPTED;RSVP=TRUE;CN="Alex Mar
 tin":https://northeastwheelsevents.com/profile/Alexmartin
END:VEVENT
END:VCALENDAR
