BEGIN:VCALENDAR
PRODID:NingEventWidget-v1
VERSION:2.0
METHOD:PUBLISH
BEGIN:VEVENT
UID:5167423:Event:144519
DTSTAMP:20260425T222948Z
SUMMARY:ALPCA Region #1 Second Annual Fall License Plate Meet
DESCRIPTION:This is an outdoor meet with no inside backup and will be 
 held rain or shine. There are several pavilions with a limited number 
 of picnic tables and also a large grassy/parking area with lots of roo
 m. So feel free to bring your own tables and chairs or just spread you
 r goodies on the grass. Admission fee is $8.00 per ALPCA member. Morni
 ng coffee/refreshments will be served as well as lunch at no extra cha
 rge. Please come out and enjoy this brand new meet in this beautiful P
 ennsylvania country setting! \n\nFor more information visit https://n
 ortheastwheelsevents.com/events/alpca-region-1-second-annual-fall-lice
 nse-plate-meet
DTSTART:20170923T120000Z
DTEND:20170923T180000Z
CATEGORIES:license, plate, meet
LOCATION:Plainfield Farmers' Grove
WEBSITE:
URL:
CONTACT:Dale Bernecker (610) 762-3769  dalebernpl8671@frontiernet.net
ORGANIZER;CN="Alex Martin":https://northeastwheelsevents.com/profile/A
 lexmartin
ATTACH;FMTTYPE="image/jpeg":http://storage.ning.com/topology/rest/1.0/
 file/get/2284097606?profile=original
ATTENDEE;ROLE=REQ-PARTICIPANT;PARTSTAT=ACCEPTED;RSVP=TRUE;CN="Alex Mar
 tin":https://northeastwheelsevents.com/profile/Alexmartin
END:VEVENT
END:VCALENDAR
