BEGIN:VCALENDAR
PRODID:NingEventWidget-v1
VERSION:2.0
METHOD:PUBLISH
BEGIN:VEVENT
UID:5167423:Event:174909
DTSTAMP:20260425T140323Z
SUMMARY:AMC 12 Cruise Night September
DESCRIPTION:Our monthly cruise night benefiting a local child with med
 ical needs\n\nFor more information visit https://northeastwheelsevents
 .com/events/amc-12-cruise-night-september
DTSTART:20180925T220000Z
DTEND:20180926T010000Z
CATEGORIES:fund, raiser
LOCATION:AMC Pottsgrove 12
WEBSITE:https://www.facebook.com/events/215286042372676
URL:https://www.facebook.com/events/215286042372676
CONTACT:4849444734
ORGANIZER;CN="Wicked Effects Car Club":https://northeastwheelsevents.c
 om/profile/WickedEffectsCarClub
ATTACH;FMTTYPE="image/jpeg":http://storage.ning.com/topology/rest/1.0/
 file/get/2284102082?profile=original
ATTENDEE;ROLE=REQ-PARTICIPANT;PARTSTAT=ACCEPTED;RSVP=TRUE;CN="Wicked E
 ffects Car Club":https://northeastwheelsevents.com/profile/WickedEffec
 tsCarClub
ATTENDEE;ROLE=REQ-PARTICIPANT;PARTSTAT=TENTATIVE;RSVP=TRUE;CN="Paul Bo
 orse":https://northeastwheelsevents.com/profile/PaulBoorse
END:VEVENT
END:VCALENDAR
