BEGIN:VCALENDAR
PRODID:NingEventWidget-v1
VERSION:2.0
METHOD:PUBLISH
BEGIN:VEVENT
UID:5167423:Event:327299
DTSTAMP:20260425T165519Z
SUMMARY:American Legion Riders post 626
DESCRIPTION:bike%20night2024.docx\n\nFor more information visit https:
 //northeastwheelsevents.com/events/american-legion-riders-post-626
DTSTART:20240609T150000Z
DTEND:20240609T190000Z
CATEGORIES:veterans, fundraiser
LOCATION:Michaels restaurant 422W
WEBSITE:
URL:
CONTACT:6105750966
ORGANIZER;CN="American Legion Riders post 626":https://northeastwheels
 events.com/profile/AmericanLegionRiderspost626
ATTACH;FMTTYPE="image/jpeg":
ATTENDEE;ROLE=REQ-PARTICIPANT;PARTSTAT=ACCEPTED;RSVP=TRUE;CN="American
  Legion Riders post 626":https://northeastwheelsevents.com/profile/Ame
 ricanLegionRiderspost626
END:VEVENT
END:VCALENDAR
