BEGIN:VCALENDAR
PRODID:NingEventWidget-v1
VERSION:2.0
METHOD:PUBLISH
BEGIN:VEVENT
UID:5167423:Event:348014
DTSTAMP:20260425T220127Z
SUMMARY:American Muscle Car Club 2nd Semi Annual Charity Car Show Farm
 ingdale, LI NY
DESCRIPTION:All cars and clubs welcome. Raffles, 50/50, food discounts
 , door prizes and vendors. A portion of the proceeds donated to a char
 ity. Judge car admission $25.  Vendor info: vincg@aol.com\nRain date:
  June 7th \n\nFor more information visit https://northeastwheelsevent
 s.com/events/american-muscle-car-club-2nd-semi-annual-charity-car-show
DTSTART:20260531T133000Z
DTEND:20260531T190000Z
CATEGORIES:car, show
LOCATION:Buffalo Wild Wings ( rear lot )
WEBSITE:
URL:
CONTACT:vincg@aol.com
ORGANIZER:AMCC
ATTACH;FMTTYPE="image/jpeg":https://storage.ning.com/topology/rest/1.0
 /file/get/31078471699?profile=original
ATTENDEE;ROLE=REQ-PARTICIPANT;PARTSTAT=ACCEPTED;RSVP=TRUE;CN="Car Show
 s Little Helper":https://northeastwheelsevents.com/profile/CarShowsLit
 tleHelper
END:VEVENT
END:VCALENDAR
