BEGIN:VCALENDAR
PRODID:NingEventWidget-v1
VERSION:2.0
METHOD:PUBLISH
BEGIN:VEVENT
UID:5167423:Event:164203
DTSTAMP:20260422T181132Z
SUMMARY:American Pride Car Show
DESCRIPTION:The American Pride Car Show is just weeks away. Here are s
 ome of the awards that are going to be selected during the show.\nBest
  In ShowMayor's ChoiceBest of Show StockBest of Show CustomPeople's Ch
 oiceBest Hot RodBest Muscle Car\nCome on down and see a ton of great c
 ars and local vendors.\n\n\nFor more information visit https://northea
 stwheelsevents.com/events/american-pride-car-show-1
DTSTART:20170924T180000Z
DTEND:20170924T230000Z
CATEGORIES:free, event
LOCATION:Copper Tree Mall
WEBSITE:
URL:
CONTACT:
ORGANIZER;CN="Peter Kikot":https://northeastwheelsevents.com/profile/P
 eterKikot
ATTACH;FMTTYPE="image/jpeg":http://storage.ning.com/topology/rest/1.0/
 file/get/2284102316?profile=original
ATTENDEE;ROLE=REQ-PARTICIPANT;PARTSTAT=ACCEPTED;RSVP=TRUE;CN="Peter Ki
 kot":https://northeastwheelsevents.com/profile/PeterKikot
END:VEVENT
END:VCALENDAR
