BEGIN:VCALENDAR
PRODID:NingEventWidget-v1
VERSION:2.0
METHOD:PUBLISH
BEGIN:VEVENT
UID:5167423:Event:158852
DTSTAMP:20260423T025257Z
SUMMARY:AMERICAS 911 & MILITARY TRIBUTE BIKE AND CAR SHOW
DESCRIPTION:It is a Show which loves all vehicles!  Its a Show with a
  full DAY OF GIVING BACK during the day to our First Responders and ou
 r Veterans and Active First Duty Soldiers. While raising money for 2 n
 on profits Americas 911 Foundations Active First Responders Children c
 ollege Scholarships and Wreaths Across America at Indian Town Gap Nati
 onal Cemetery.   40 Trophies plus 4 large Trophies on top of that th
 is year.  Come out and support our HEROES  and Say THANKYOU!  And 
 if you are one of our Heroes bring ID along to put your names into the
  Day of Giving Back Jars .  We pull names every hour.    Lots of F
 ood Vendors, and 32 other vendors including Help for Veterans.  Thi
 ngs to interest everyone!  Also in Front Grassy Area will be Helicopt
 er rides for $40.00.  I have a DJ outside and one inside.  Come spe
 nd the day with us! \n\nFor more information visit https://northeastw
 heelsevents.com/events/americas-911-amp-military-tribute-bike-and-car-
 show
DTSTART:20170806T140000Z
DTEND:20170806T200000Z
CATEGORIES:car, show, bike, military, first, responders
LOCATION:Lebanon Expo Center and Fair Grounds
WEBSITE:
URL:
CONTACT:717-673-5732
ORGANIZER;CN="Victoria Kriner-Eisenhour":https://northeastwheelsevents
 .com/profile/VictoriaKrinerEisenhour155
ATTACH;FMTTYPE="image/jpeg":http://storage.ning.com/topology/rest/1.0/
 file/get/2284099903?profile=original
ATTENDEE;ROLE=REQ-PARTICIPANT;PARTSTAT=ACCEPTED;RSVP=TRUE;CN="David Se
 nsenig":https://northeastwheelsevents.com/profile/DavidSensenig
ATTENDEE;ROLE=REQ-PARTICIPANT;PARTSTAT=ACCEPTED;RSVP=TRUE;CN="Blaine M
 cKivison":https://northeastwheelsevents.com/profile/BlaineMcKivison
ATTENDEE;ROLE=REQ-PARTICIPANT;PARTSTAT=ACCEPTED;RSVP=TRUE;CN="Victoria
  Kriner-Eisenhour":https://northeastwheelsevents.com/profile/VictoriaK
 rinerEisenhour155
END:VEVENT
END:VCALENDAR
