BEGIN:VCALENDAR
PRODID:NingEventWidget-v1
VERSION:2.0
METHOD:PUBLISH
BEGIN:VEVENT
UID:5167423:Event:65572
DTSTAMP:20260421T055046Z
SUMMARY:AMF Bristol Pike Lanes Car Show
DESCRIPTION:\nSunday May 24th          “Spring Into Summer 
 Car Show”\nNirvana Family Fitness Center from 9am-3pm, rain date Sun
 day May 31st, $15.00 Day Of Show Only\nNirvana Family Fitness 1222 New
  Rodgers Road (Rt. 413 one light south of I-95 interchange) Bristol Pa
  19007. All years, makes, & models welcome including \"Rat Rods\". Top
  30 Trophies plus specialty awards.\nSponsored by Nirvana Family Fitne
 ss & Movin' On KruZers Car Club.\nHosted & Judged by Movin' On KruZers
 . Food Available,Vendors, Giveaways.\nIndoor Bathroom Facilities, Musi
 c by: \"Tom E Tunes\" Spectators Free. Vendors or more info please cal
 l, Bobbi\n(h) 215-752-0484, (C) 215-820-3276 or www.movinonkruzers.com
 ,\nE-Mail movin'onkruzers@inbox.com  Partial proceeds benefit local c
 harities.    Registration Closes At 12:00 Noon\n\nFor more informat
 ion visit https://northeastwheelsevents.com/events/amf-bristol-pike-la
 nes-car-show-1
DTSTART:20150613T130000Z
DTEND:20150613T190000Z
CATEGORIES:car, show
LOCATION:AMF Bristol Pike Lanes
WEBSITE:http://movinonkruzers.com
URL:http://movinonkruzers.com
CONTACT:215-752-0484
ORGANIZER:Movin' On KruZers
ATTACH;FMTTYPE="image/jpeg":
ATTENDEE;ROLE=REQ-PARTICIPANT;PARTSTAT=ACCEPTED;RSVP=TRUE;CN="Frank If
 kowitz":https://northeastwheelsevents.com/profile/FrankIfkowitz137
END:VEVENT
END:VCALENDAR
