BEGIN:VCALENDAR
PRODID:NingEventWidget-v1
VERSION:2.0
METHOD:PUBLISH
BEGIN:VEVENT
UID:5167423:Event:202393
DTSTAMP:20260425T225736Z
SUMMARY:An Evening with Hurley Haywood by Simeone Foundation Automotiv
 e Museum
DESCRIPTION:From his upbringing in Chicago and Wheaton, Illinois, to h
 is chance meeting with Peter Gregg, Hurley Haywood was destined to dri
 ve anything he could get his hands on. Life-long relationships with Po
 rsche and the Brumos dealership provided the kinds of opportunities of
  which most racing drivers only dream.With three overall victories at 
 Le Mans, five at the Rolex 24 at Daytona, and two at the 12 Hours of S
 ebring, Haywood is the world's most successful endurance sports-car ra
 cer. In addition, Haywood won several championships and dozens of othe
 r races during a career spanning more than 43 years.The Simeone Museum
  will have a special evening on October 26th with Hurley Haywood and S
 ean Cridland to discuss their new book, HURLEY, From the Beginning. Th
 e event begins at 7:00 PM and will include a book signing at the end. 
 Copies of the book will be available for purchase at the museum gift s
 hop.\n\nALL MUSEUM MEMBERS GET IN FREE!\n\nFor more information visit 
 https://northeastwheelsevents.com/events/an-evening-with-hurley-haywoo
 d-by-simeone-foundation-automotive
DTSTART:20181026T230000Z
DTEND:20181027T010000Z
CATEGORIES:book, signing, lecture, porsche, racing
LOCATION:The Simeone Museum
WEBSITE:https://www.eventbrite.com/e/an-evening-with-hurley-haywood-ti
 ckets-49119732442?aff=ehomecard
URL:https://www.eventbrite.com/e/an-evening-with-hurley-haywood-ticket
 s-49119732442?aff=ehomecard
CONTACT:2153657233
ORGANIZER;CN="The Simeone Museum":https://northeastwheelsevents.com/pr
 ofile/TheSimeoneMuseum
ATTACH;FMTTYPE="image/jpeg":http://storage.ning.com/topology/rest/1.0/
 file/get/2284111236?profile=original
ATTENDEE;ROLE=REQ-PARTICIPANT;PARTSTAT=ACCEPTED;RSVP=TRUE;CN="The Sime
 one Museum":https://northeastwheelsevents.com/profile/TheSimeoneMuseum
END:VEVENT
END:VCALENDAR
