BEGIN:VCALENDAR
PRODID:NingEventWidget-v1
VERSION:2.0
METHOD:PUBLISH
BEGIN:VEVENT
UID:5167423:Event:343432
DTSTAMP:20260423T183056Z
SUMMARY:Annual All GM Car Show
DESCRIPTION:\n\nFor more information visit https://northeastwheelseven
 ts.com/events/annual-all-gm-car-show
DTSTART:20251005T150000Z
DTEND:20251005T180000Z
CATEGORIES:car, show, fundraiser
LOCATION:John Sauder Chevrolet
WEBSITE:https://www.newhollandjohnsauderauto.com
URL:https://www.newhollandjohnsauderauto.com
CONTACT:7174196525
ORGANIZER;CN="Ken Hoshauer":https://northeastwheelsevents.com/profile/
 KenHoshauer990
ATTACH;FMTTYPE="image/jpeg":
ATTENDEE;ROLE=REQ-PARTICIPANT;PARTSTAT=ACCEPTED;RSVP=TRUE;CN="Ken Hosh
 auer":https://northeastwheelsevents.com/profile/KenHoshauer990
END:VEVENT
END:VCALENDAR
