BEGIN:VCALENDAR
PRODID:NingEventWidget-v1
VERSION:2.0
METHOD:PUBLISH
BEGIN:VEVENT
UID:5167423:Event:313370
DTSTAMP:20260425T203009Z
SUMMARY:Annual Car Show Benefiting Ronald McDonald House Charities and
  Judy’s Stroke Awareness
DESCRIPTION:Hosted by the Fabulous 50s&60s Nostalgia Car Club. Rain d
 ate: April 30th\n\nFor more information visit https://northeastwheelse
 vents.com/events/annual-car-show-benefiting-ronald-mcdonald-house-char
 ities-and
DTSTART:20230423T130000Z
DTEND:20230423T190000Z
CATEGORIES:car, show
LOCATION:Te Maples
WEBSITE:
URL:
CONTACT:Frank 631-402-2798, Dan 631-672-6182, Arthur 631-463-4983
ORGANIZER:Fabulous 50s &amp; 60s Nostalgia Car Club
ATTACH;FMTTYPE="image/jpeg":https://storage.ning.com/topology/rest/1.0
 /file/get/11027799266?profile=original
ATTENDEE;ROLE=REQ-PARTICIPANT;PARTSTAT=ACCEPTED;RSVP=TRUE;CN="Car Show
 s Little Helper":https://northeastwheelsevents.com/profile/CarShowsLit
 tleHelper
END:VEVENT
END:VCALENDAR
