BEGIN:VCALENDAR
PRODID:NingEventWidget-v1
VERSION:2.0
METHOD:PUBLISH
BEGIN:VEVENT
UID:5167423:Event:321254
DTSTAMP:20260422T065613Z
SUMMARY:Annual Car Show Stepping Stones
DESCRIPTION:\n\nFor more information visit https://northeastwheelseven
 ts.com/events/annual-car-show-stepping-stones
DTSTART:20230917T140000Z
DTEND:20230917T190000Z
CATEGORIES:local, community, charities, car, "show/cruise", ins
LOCATION:Ken Pollock Ford
WEBSITE:https://www.facebook.com/events/967341097719950/
URL:https://www.facebook.com/events/967341097719950/
CONTACT:570-974-1923
ORGANIZER:Mark and Kim Koenig
ATTACH;FMTTYPE="image/jpeg":https://storage.ning.com/topology/rest/1.0
 /file/get/12224007859?profile=original
ATTENDEE;ROLE=REQ-PARTICIPANT;PARTSTAT=ACCEPTED;RSVP=TRUE;CN="Charlie 
 D. Lumbard":https://northeastwheelsevents.com/profile/CharlieDLumbard
END:VEVENT
END:VCALENDAR
