BEGIN:VCALENDAR
PRODID:NingEventWidget-v1
VERSION:2.0
METHOD:PUBLISH
BEGIN:VEVENT
UID:5167423:Event:23256
DTSTAMP:20260423T123320Z
SUMMARY:Annual Family Fun Strawberry Festival & Classic Car Display
DESCRIPTION:Annual Family Fun Strawberry Festival & Classic Car Displa
 y Saturday June 15th 12 PM to 4 PMAdmission: Adults - $3 Children und
 er 3 -- Free,4 yrs to 12 years- $1.00 admission includes Strawberry Sh
 ortcake!Celebrate Flag Day Music and Entertainment Classic Cars from
  the East Coast Car AssociationRefreshments including Strawberry Short
 cake, Children's crafts & Pie-eating contest Face-painting & Old Fas
 hioned Games & Bobo the HoboHandmade Quilt Tours of the Onderdonk Hou
 seExhibit -- Unearthed at the Onderdonk House -- Artifacts from the e
 arly Archaeological InvestigationsAt the ONDERDONK HOUSE,1820 Flushing
  Ave. corner Onderdonk Ave.Ridgewood, Queens718-456-1776see our websit
 e:www.onderdonkhouse.orgThis event is funded in part by public service
  grants from the Department of Cultural Affairs, City of New York wit
 h the support of the NYC Council, Diana Reyna and Elizabeth Crowleyand
  by members of the Society\n\nFor more information visit https://north
 eastwheelsevents.com/events/annual-family-fun-strawberry-festival-clas
 sic-car-display
DTSTART:20130615T160000Z
DTEND:20130615T200000Z
CATEGORIES:car, display, and, family, fun
LOCATION:the ONDERDONK HOUSE
WEBSITE:http://eccatoysfortots.org
URL:http://eccatoysfortots.org
CONTACT:917-682-5362
ORGANIZER;CN="East Coast Car Assicoation Inc":https://northeastwheelse
 vents.com/profile/EastCoastCarAssicoationInc
ATTACH;FMTTYPE="image/jpeg":http://storage.ning.com/topology/rest/1.0/
 file/get/2284051779?profile=original
ATTENDEE;ROLE=REQ-PARTICIPANT;PARTSTAT=ACCEPTED;RSVP=TRUE;CN="East Coa
 st Car Assicoation Inc":https://northeastwheelsevents.com/profile/East
 CoastCarAssicoationInc
END:VEVENT
END:VCALENDAR
