BEGIN:VCALENDAR
PRODID:NingEventWidget-v1
VERSION:2.0
METHOD:PUBLISH
BEGIN:VEVENT
UID:5167423:Event:146650
DTSTAMP:20260420T151346Z
SUMMARY:Annual Gettysburg Region AACA Antique & Classic Show
DESCRIPTION:LATIMORE%20SHOW%202017.docx\n\nFor more information visit 
 https://northeastwheelsevents.com/events/annual-gettysburg-region-aaca
 -antique-classic-show
DTSTART:20170610T110000Z
DTEND:20170610T190000Z
CATEGORIES:antique, "&", classic, car, truck, show
LOCATION:Latimore Valley Fairgrounds
WEBSITE:
URL:
CONTACT:717-451-0092
ORGANIZER:Rick Engle
ATTACH;FMTTYPE="image/jpeg":
ATTENDEE;ROLE=REQ-PARTICIPANT;PARTSTAT=ACCEPTED;RSVP=TRUE;CN="Allan Ma
 ybee":https://northeastwheelsevents.com/profile/AllanMaybee
END:VEVENT
END:VCALENDAR
