BEGIN:VCALENDAR
PRODID:NingEventWidget-v1
VERSION:2.0
METHOD:PUBLISH
BEGIN:VEVENT
UID:5167423:Event:114547
DTSTAMP:20260421T210718Z
SUMMARY:Annual Howard County Fair Collector Car Show
DESCRIPTION:All types of collector vehicles welcome (except motorcycle
 s). Gate registration $15 includes Fair entry. Judging Team awards: To
 p 30 Vehicles, Best of Show. Dash plaques first 100 registrations.  
 Rain or Shine.\n\nFor more information visit https://northeastwheelsev
 ents.com/events/annual-howard-county-fair-collector-car-show
DTSTART:20160807T130000Z
DTEND:20160807T200000Z
CATEGORIES:collector, car, show
LOCATION:Howard County Fairgrounds
WEBSITE:http://www.chesapeakeaaca.org/
URL:http://www.chesapeakeaaca.org/
CONTACT:410-627-6765
ORGANIZER:Gene Sauter
ATTACH;FMTTYPE="image/jpeg":http://storage.ning.com/topology/rest/1.0/
 file/get/2284086678?profile=original
ATTENDEE;ROLE=REQ-PARTICIPANT;PARTSTAT=ACCEPTED;RSVP=TRUE;CN="Harold D
 iehl":https://northeastwheelsevents.com/profile/HaroldDiehl
END:VEVENT
END:VCALENDAR
