BEGIN:VCALENDAR
PRODID:NingEventWidget-v1
VERSION:2.0
METHOD:PUBLISH
BEGIN:VEVENT
UID:5167423:Event:157623
DTSTAMP:20260423T010642Z
SUMMARY:Annual Oldsmobile, Buick, and Pontiac Show
DESCRIPTION:The AACA Museum will be hosting the 5th Annual Oldsmobile,
  Buick, and Pontiac Classic and Antique Automobile Show on Sunday, Aug
 ust 20th, 2017.Do you own an Oldsmobile, Buick, or Pontiac? We have th
 e perfect show for your classic!Registration will go on from 10:00 A.M
 . to noon. The show ends at 3 P.M. with the awards ceremony at 3:30 P.
 M.Dash plaques are given to the first 50 cars, along with goodie bags.
 There are door prizes and chances to win automotive gift baskets and p
 roducts.\n\nFor more information visit https://northeastwheelsevents.c
 om/events/annual-oldsmobile-buick-and-pontiac-show-1
DTSTART:20170820T140000Z
DTEND:20170820T190000Z
CATEGORIES:car, show
LOCATION:AACA Museum
WEBSITE:http://www.aacamuseum.org/3rd-annual-classic-antique-automobil
 e-show/
URL:http://www.aacamuseum.org/3rd-annual-classic-antique-automobile-sh
 ow/
CONTACT:7175667100
ORGANIZER;CN="AACA Museum":https://northeastwheelsevents.com/profile/A
 ACAMuseum941
ATTACH;FMTTYPE="image/jpeg":http://storage.ning.com/topology/rest/1.0/
 file/get/2284100360?profile=original
ATTENDEE;ROLE=REQ-PARTICIPANT;PARTSTAT=ACCEPTED;RSVP=TRUE;CN="AACA Mus
 eum":https://northeastwheelsevents.com/profile/AACAMuseum941
END:VEVENT
END:VCALENDAR
