BEGIN:VCALENDAR
PRODID:NingEventWidget-v1
VERSION:2.0
METHOD:PUBLISH
BEGIN:VEVENT
UID:5167423:Event:337459
DTSTAMP:20260423T120803Z
SUMMARY:Annual Spring Springfield Swap Meet & Car Show   Springfield, 
 OH
DESCRIPTION:Be a part of the largest and most exciting Swap Meet in th
 e Midwest, celebrating 40 years of success! The Cars&Parts Springfield
  Swap Meet & Car Show Annual Spring event.Â Show & Shine Car Show held
  both Friday and Saturday, Memorial Day Weekend. Spectator hours are F
 riday, May 23 - Saturday, May 24, 2025,Â  7am-6pm.Â Spectators $10 per
  day, children under 12 free!Â \r\n Our 126 acre site offers 4000 vend
 or spaces and a car corral. Email: Info@ohioswapmeet.com. Call for ven
 dor spaces. Contact us to join mailing list for future events.Â \r\nTh
 ese family-friendly events promise fun and excitement for car enthusia
 sts. Look to website for info. on our winter and summers events also.Â
  \r\n Our 126 acre site offers 4000 vendor spaces and a car corral. Em
 ail: Info@ohioswapmeet.com. Call for vendor spaces. Contact us to join
  mailing list for future events.\r\n\n\nFor more information visit htt
 ps://northeastwheelsevents.com/events/annual-spring-springfield-swap-m
 eet-car-show-springfield-oh
DTSTART:20250523T110000Z
DTEND:20250524T220000Z
CATEGORIES:swap-meet, car-corral, and, car-show
LOCATION:Clark County Fairgrounds
WEBSITE:http://www.ohioswapmeet.com
URL:http://www.ohioswapmeet.com
CONTACT:937-376-0111, fax 937-372-1171
ORGANIZER:Ohioswapmeets
ATTACH;FMTTYPE="image/jpeg":https://storage.ning.com/topology/rest/1.0
 /file/get/13452627266?profile=original
ATTENDEE;ROLE=REQ-PARTICIPANT;PARTSTAT=ACCEPTED;RSVP=TRUE;CN="William 
 Bruce":https://northeastwheelsevents.com/profile/WilliamBruce
END:VEVENT
END:VCALENDAR
