BEGIN:VCALENDAR
PRODID:NingEventWidget-v1
VERSION:2.0
METHOD:PUBLISH
BEGIN:VEVENT
UID:5167423:Event:337462
DTSTAMP:20260420T004926Z
SUMMARY:Annual Winter Springfield Swap Meet & Car Show   Springfield, 
 OH
DESCRIPTION:Be a part of the most exciting Swap Meet in the The Cars&P
 arts Springfield Swap Meet & Car Show Annual Winter event. Spectators:
  $7:00, under 12, free!  Spectator hours are Saturday, February 15, 2
 025 from 8am-3pm. This family-friendly event promises fun and excitem
 ent for car enthusiasts. Check website for our Spring and Summer event
 s.   Our 126 acre site offers 4000 vendor spaces and a car corral and
  Show & Shine Car Show. Call or check website for car show, corral and
  vendor pricing. Info@ohioswapmeet.com\n\nFor more information visit h
 ttps://northeastwheelsevents.com/events/annual-winter-springfield-swap
 -meet-car-show-springfield-oh
DTSTART:20250215T130000Z
DTEND:20250215T200000Z
CATEGORIES:swap-meet, car-corral, car-show
LOCATION:Clark County Fairgrounds
WEBSITE:http://www.ohioswapmeet.com
URL:http://www.ohioswapmeet.com
CONTACT:937-376-0111, fax 937-372-1171
ORGANIZER:Ohioswapmeets
ATTACH;FMTTYPE="image/jpeg":https://storage.ning.com/topology/rest/1.0
 /file/get/13452627266?profile=original
ATTENDEE;ROLE=REQ-PARTICIPANT;PARTSTAT=ACCEPTED;RSVP=TRUE;CN="William 
 Bruce":https://northeastwheelsevents.com/profile/WilliamBruce
END:VEVENT
END:VCALENDAR
