BEGIN:VCALENDAR
PRODID:NingEventWidget-v1
VERSION:2.0
METHOD:PUBLISH
BEGIN:VEVENT
UID:5167423:Event:301475
DTSTAMP:20260422T170257Z
SUMMARY:Anthracite Region AACA 2022 Car Show
DESCRIPTION:Anthracite Region AACA 36th Annual Car Show\nSunday Septem
 ber 18, 2022\nTri-County Little League Field, McAdoo, PA\nMore info at
  araaca.com\n\nFor more information visit https://northeastwheelsevent
 s.com/events/anthracite-region-aaca-2022-car-show
DTSTART:20220918T120000Z
DTEND:20220918T190000Z
CATEGORIES:36th, annual, car, show
LOCATION:Tri-County Little League Field, McAdoo Pa.
WEBSITE:
URL:
CONTACT:
ORGANIZER;CN="Dave Bielen":https://northeastwheelsevents.com/profile/D
 aveBielen
ATTACH;FMTTYPE="image/jpeg":https://storage.ning.com/topology/rest/1.0
 /file/get/10531226899?profile=original
ATTENDEE;ROLE=REQ-PARTICIPANT;PARTSTAT=ACCEPTED;RSVP=TRUE;CN="Samuel R
  Merola Jr":https://northeastwheelsevents.com/profile/SamuelRMerolaJr
ATTENDEE;ROLE=REQ-PARTICIPANT;PARTSTAT=ACCEPTED;RSVP=TRUE;CN="Dave Bie
 len":https://northeastwheelsevents.com/profile/DaveBielen
ATTENDEE;ROLE=REQ-PARTICIPANT;PARTSTAT=TENTATIVE;RSVP=TRUE;CN="David W
  Blankenhorn":https://northeastwheelsevents.com/profile/DavidWBlankenh
 orn
END:VEVENT
END:VCALENDAR
